BEGIN:VCALENDAR
VERSION:2.0
PRODID:-//LivWell Community Health Services - ECPv6.15.20//NONSGML v1.0//EN
CALSCALE:GREGORIAN
METHOD:PUBLISH
X-WR-CALNAME:LivWell Community Health Services
X-ORIGINAL-URL:https://livwellchs.org
X-WR-CALDESC:Events for LivWell Community Health Services
REFRESH-INTERVAL;VALUE=DURATION:PT1H
X-Robots-Tag:noindex
X-PUBLISHED-TTL:PT1H
BEGIN:VTIMEZONE
TZID:America/Chicago
BEGIN:DAYLIGHT
TZOFFSETFROM:-0600
TZOFFSETTO:-0500
TZNAME:CDT
DTSTART:20240310T080000
END:DAYLIGHT
BEGIN:STANDARD
TZOFFSETFROM:-0500
TZOFFSETTO:-0600
TZNAME:CST
DTSTART:20241103T070000
END:STANDARD
BEGIN:DAYLIGHT
TZOFFSETFROM:-0600
TZOFFSETTO:-0500
TZNAME:CDT
DTSTART:20250309T080000
END:DAYLIGHT
BEGIN:STANDARD
TZOFFSETFROM:-0500
TZOFFSETTO:-0600
TZNAME:CST
DTSTART:20251102T070000
END:STANDARD
BEGIN:DAYLIGHT
TZOFFSETFROM:-0600
TZOFFSETTO:-0500
TZNAME:CDT
DTSTART:20260308T080000
END:DAYLIGHT
BEGIN:STANDARD
TZOFFSETFROM:-0500
TZOFFSETTO:-0600
TZNAME:CST
DTSTART:20261101T070000
END:STANDARD
END:VTIMEZONE
BEGIN:VEVENT
DTSTART;TZID=America/Chicago:20251001T140000
DTEND;TZID=America/Chicago:20251001T180000
DTSTAMP:20260424T184352
CREATED:20250923T192954Z
LAST-MODIFIED:20260209T150524Z
UID:4671-1759327200-1759341600@livwellchs.org
SUMMARY:Back to Health Block Party
DESCRIPTION:Back to Health Block Party\nChristian County Health Department\n1700 Canton St\, Hopkinsville\, KY 42240 \nWednesday\, October 1\, 2025 \n2:00 PM – 6:00 PM \nFree safe sex supplies!
URL:https://livwellchs.org/event/back-to-health-block-party/
LOCATION:Christian County Health Department\, 1700 Canton St\, Hopkinsville\, 42240\, United States
CATEGORIES:Resource Fair
END:VEVENT
BEGIN:VEVENT
DTSTART;TZID=America/Chicago:20251002T130000
DTEND;TZID=America/Chicago:20251002T150000
DTSTAMP:20260424T184352
CREATED:20250923T180827Z
LAST-MODIFIED:20260209T150829Z
UID:4657-1759410000-1759417200@livwellchs.org
SUMMARY:Mercy Health Flu Shot Clinic
DESCRIPTION:Testing Event – Mercy Health Flu Shot Clinic at McCracken County Public Library\n555 Washington St\, Paducah\, KY 42003 \nThursday\, October 2\, 2025 \n1:00 PM – 3:00 PM \nFree confidential HIV test and safe sex supplies! \n*Free gift card with HIV test while supplies last*
URL:https://livwellchs.org/event/testing-event-mercy-health-flu-shot-clinic/
LOCATION:McCracken County Public Library\, 555 Washington St\, Paducah\, KY\, 42003\, United States
CATEGORIES:Resource Fair,Testing Event
END:VEVENT
BEGIN:VEVENT
DTSTART;TZID=America/Chicago:20251007T150000
DTEND;TZID=America/Chicago:20251007T180000
DTSTAMP:20260424T184352
CREATED:20250923T183428Z
LAST-MODIFIED:20260209T150530Z
UID:4661-1759849200-1759860000@livwellchs.org
SUMMARY:Fall in Love with Health
DESCRIPTION:Fall in Love with Health\nWellness & Resource Fair\nPurchase District Health Department\n1702 Moscow Ave\, Hickman\, KY 42050 \nTuesday\, October 7\, 2025 \n3:00 PM – 6:00 PM \nFree safe sex supplies!
URL:https://livwellchs.org/event/fall-in-love-with-health/
LOCATION:Purchase District Health Department\, 1702 Moscow Ave\, Hickman\, 42050\, United States
CATEGORIES:Resource Fair
END:VEVENT
BEGIN:VEVENT
DTSTART;TZID=America/Chicago:20251025T100000
DTEND;TZID=America/Chicago:20251025T140000
DTSTAMP:20260424T184352
CREATED:20250923T194801Z
LAST-MODIFIED:20260209T150833Z
UID:4676-1761386400-1761400800@livwellchs.org
SUMMARY:Community Resource Expo
DESCRIPTION:Testing Event – Community Resource Expo & Drug Take Back Day\nNinth Street Church of Christ \n715 S 9th St\, Paducah\, KY 42003 \nSaturday\, October 25\, 2025 \n10:00 AM – 2:00 PM \nFree confidential HIV test and safe sex supplies! \n*Free gift card with HIV test while supplies last*
URL:https://livwellchs.org/event/testing-event-community-resource-expo/
LOCATION:Ninth Street Church of Christ\, 715 S 9th St\, Paducah\, KY\, 42003\, United States
CATEGORIES:Resource Fair,Testing Event
END:VEVENT
BEGIN:VEVENT
DTSTART;TZID=America/Chicago:20251029T110000
DTEND;TZID=America/Chicago:20251029T130000
DTSTAMP:20260424T184352
CREATED:20250826T172328Z
LAST-MODIFIED:20260209T150538Z
UID:4598-1761735600-1761742800@livwellchs.org
SUMMARY:Community Kitchen Resource Fair
DESCRIPTION:Community Kitchen Resource Fair\n1237 Martin Luther King Jr Dr\, Paducah\, KY 42001 \nWednesday\, October 29\, 2025 \n11:00 AM – 1:00 PM \nFree safe sex supplies!
URL:https://livwellchs.org/event/community-kitchen-resource-fair/
LOCATION:Community Kitchen\, 1237 Martin Luther King Jr Dr\, Paducah\, KY\, 42001\, United States
CATEGORIES:Resource Fair
END:VEVENT
END:VCALENDAR