BEGIN:VCALENDAR
VERSION:2.0
PRODID:-//LivWell Community Health Services - ECPv6.15.20//NONSGML v1.0//EN
CALSCALE:GREGORIAN
METHOD:PUBLISH
X-WR-CALNAME:LivWell Community Health Services
X-ORIGINAL-URL:https://livwellchs.org
X-WR-CALDESC:Events for LivWell Community Health Services
REFRESH-INTERVAL;VALUE=DURATION:PT1H
X-Robots-Tag:noindex
X-PUBLISHED-TTL:PT1H
BEGIN:VTIMEZONE
TZID:America/Chicago
BEGIN:DAYLIGHT
TZOFFSETFROM:-0600
TZOFFSETTO:-0500
TZNAME:CDT
DTSTART:20250309T080000
END:DAYLIGHT
BEGIN:STANDARD
TZOFFSETFROM:-0500
TZOFFSETTO:-0600
TZNAME:CST
DTSTART:20251102T070000
END:STANDARD
BEGIN:DAYLIGHT
TZOFFSETFROM:-0600
TZOFFSETTO:-0500
TZNAME:CDT
DTSTART:20260308T080000
END:DAYLIGHT
BEGIN:STANDARD
TZOFFSETFROM:-0500
TZOFFSETTO:-0600
TZNAME:CST
DTSTART:20261101T070000
END:STANDARD
BEGIN:DAYLIGHT
TZOFFSETFROM:-0600
TZOFFSETTO:-0500
TZNAME:CDT
DTSTART:20270314T080000
END:DAYLIGHT
BEGIN:STANDARD
TZOFFSETFROM:-0500
TZOFFSETTO:-0600
TZNAME:CST
DTSTART:20271107T070000
END:STANDARD
END:VTIMEZONE
BEGIN:VEVENT
DTSTART;TZID=America/Chicago:20260208T170000
DTEND;TZID=America/Chicago:20260208T200000
DTSTAMP:20260424T135037
CREATED:20251219T175400Z
LAST-MODIFIED:20260209T150845Z
UID:4916-1770570000-1770580800@livwellchs.org
SUMMARY:Stop the Stigma Art Reception
DESCRIPTION:Stop the Stigma Art Reception\nLivWell Community Health Services and Maiden Alley Cinema invite you to a special event focused on reducing HIV/AIDS stigma through the power of ART! Join us for an evening of awareness and creativity as we challenge misconceptions and misinformation related to HIV/AIDS. This reception will feature artwork made by local artists\, an opportunity to meet and speak with artists\, and resources to promote dialog and inspire change. \nOne night only!\nAll ages!\nFree admission! \nEvent date: Sunday\, February 8\, 2026\nDoors open: 5:00 PM\nEvent time: 5:30 PM – 8:00 PM\nEvent location: Maiden Alley Cinema\n112 Maiden Alley\, Paducah\, KY 42001 \nDo you have artwork that is related to reducing the stigma that surrounds the HIV/AIDS community? You can be a part of the art reception! Submit your artwork at this link: https://livwellchs.org/art-show/
URL:https://livwellchs.org/event/art-show/
LOCATION:Maiden Alley Cinema\, 112 Maiden Alley\, Paducah\, 42001\, United States
CATEGORIES:Special Event
END:VEVENT
END:VCALENDAR