BEGIN:VCALENDAR
VERSION:2.0
PRODID:-//LivWell Community Health Services - ECPv6.15.20//NONSGML v1.0//EN
CALSCALE:GREGORIAN
METHOD:PUBLISH
X-WR-CALNAME:LivWell Community Health Services
X-ORIGINAL-URL:https://livwellchs.org
X-WR-CALDESC:Events for LivWell Community Health Services
REFRESH-INTERVAL;VALUE=DURATION:PT1H
X-Robots-Tag:noindex
X-PUBLISHED-TTL:PT1H
BEGIN:VTIMEZONE
TZID:America/Chicago
BEGIN:DAYLIGHT
TZOFFSETFROM:-0600
TZOFFSETTO:-0500
TZNAME:CDT
DTSTART:20250309T080000
END:DAYLIGHT
BEGIN:STANDARD
TZOFFSETFROM:-0500
TZOFFSETTO:-0600
TZNAME:CST
DTSTART:20251102T070000
END:STANDARD
BEGIN:DAYLIGHT
TZOFFSETFROM:-0600
TZOFFSETTO:-0500
TZNAME:CDT
DTSTART:20260308T080000
END:DAYLIGHT
BEGIN:STANDARD
TZOFFSETFROM:-0500
TZOFFSETTO:-0600
TZNAME:CST
DTSTART:20261101T070000
END:STANDARD
BEGIN:DAYLIGHT
TZOFFSETFROM:-0600
TZOFFSETTO:-0500
TZNAME:CDT
DTSTART:20270314T080000
END:DAYLIGHT
BEGIN:STANDARD
TZOFFSETFROM:-0500
TZOFFSETTO:-0600
TZNAME:CST
DTSTART:20271107T070000
END:STANDARD
END:VTIMEZONE
BEGIN:VEVENT
DTSTART;TZID=America/Chicago:20260307T190000
DTEND;TZID=America/Chicago:20260307T210000
DTSTAMP:20260424T123116
CREATED:20260203T164244Z
LAST-MODIFIED:20260225T165705Z
UID:5236-1772910000-1772917200@livwellchs.org
SUMMARY:Special Event: Black HIV Recognition
DESCRIPTION:Join us on Saturday\, March 7th at Home Plate Soul Food to honor and recognize National Black HIV/AIDS. Come together to celebrate culture\, community\, and honest conversation. Improving Access to Prevention and Care for Health Equity highlights the importance of advancing prevention\, testing\, and care in Black communities—no matter the location\, no matter the circumstance. \nEmcee: Daisha Johnson\nGuest Speaker: LaDonna Atkins RN\, MSN-ED\nTestimonial: Tamiko Warfield\nEntertainment: RedVelvet The Goddess and X4orce \nFree HIV testing\, safe sex supplies\, and sexual health education\n*Free gift card with HIV test while supplies last \nAll ages!\nFree admission! \nSaturday\, March 7\, 2026\n7:00 PM – 9:00 PM \nHome Plate Soul Food\n1200 North 8th Street\nPaducah\, KY 42001
URL:https://livwellchs.org/event/nbhaad-2026/
LOCATION:Home Plate Soul Food\, 1200 N 8th St\, Paducah\, 42001\, United States
CATEGORIES:Special Event,Testing Event
END:VEVENT
END:VCALENDAR