BEGIN:VCALENDAR
VERSION:2.0
PRODID:-//LivWell Community Health Services - ECPv6.15.20//NONSGML v1.0//EN
CALSCALE:GREGORIAN
METHOD:PUBLISH
X-ORIGINAL-URL:https://livwellchs.org
X-WR-CALDESC:Events for LivWell Community Health Services
REFRESH-INTERVAL;VALUE=DURATION:PT1H
X-Robots-Tag:noindex
X-PUBLISHED-TTL:PT1H
BEGIN:VTIMEZONE
TZID:America/Chicago
BEGIN:DAYLIGHT
TZOFFSETFROM:-0600
TZOFFSETTO:-0500
TZNAME:CDT
DTSTART:20240310T080000
END:DAYLIGHT
BEGIN:STANDARD
TZOFFSETFROM:-0500
TZOFFSETTO:-0600
TZNAME:CST
DTSTART:20241103T070000
END:STANDARD
BEGIN:DAYLIGHT
TZOFFSETFROM:-0600
TZOFFSETTO:-0500
TZNAME:CDT
DTSTART:20250309T080000
END:DAYLIGHT
BEGIN:STANDARD
TZOFFSETFROM:-0500
TZOFFSETTO:-0600
TZNAME:CST
DTSTART:20251102T070000
END:STANDARD
BEGIN:DAYLIGHT
TZOFFSETFROM:-0600
TZOFFSETTO:-0500
TZNAME:CDT
DTSTART:20260308T080000
END:DAYLIGHT
BEGIN:STANDARD
TZOFFSETFROM:-0500
TZOFFSETTO:-0600
TZNAME:CST
DTSTART:20261101T070000
END:STANDARD
BEGIN:DAYLIGHT
TZOFFSETFROM:-0600
TZOFFSETTO:-0500
TZNAME:CDT
DTSTART:20270314T080000
END:DAYLIGHT
BEGIN:STANDARD
TZOFFSETFROM:-0500
TZOFFSETTO:-0600
TZNAME:CST
DTSTART:20271107T070000
END:STANDARD
END:VTIMEZONE
BEGIN:VEVENT
DTSTART;TZID=America/Chicago:20260415T110000
DTEND;TZID=America/Chicago:20260415T140000
DTSTAMP:20260424T123056
CREATED:20260406T190252Z
LAST-MODIFIED:20260414T193023Z
UID:6400-1776250800-1776261600@livwellchs.org
SUMMARY:Testing Event: Sex in the Spring
DESCRIPTION:Special Event: Sex in the SpringPresented by Southern Illinois UniversityWellness and Health Promotion Services\nFaner Breezeway at Faner Hall\, Southern Illinois University1255 Lincoln Dr\, Carbondale\, IL 62903 \nWednesday\, April 15\, 202611:00 AM – 2:00 PM \nFree confidential HIV test and safer sex supplies!*Free gift card with HIV test while supplies last*
URL:https://livwellchs.org/event/special-event-sex-in-the-spring/
LOCATION:Faner Hall\, Southern Illinois University\, 1255 Lincoln Dr\, Carbondale\, IL\, 62903\, United States
CATEGORIES:Testing Event
END:VEVENT
BEGIN:VEVENT
DTSTART;TZID=America/Chicago:20260409T090000
DTEND;TZID=America/Chicago:20260409T110000
DTSTAMP:20260424T123056
CREATED:20260304T172157Z
LAST-MODIFIED:20260409T143432Z
UID:5520-1775725200-1775732400@livwellchs.org
SUMMARY:Testing Event: Turning Point
DESCRIPTION:Testing Event: Turning Point Recovery Community Center\nTurning Point Recovery Community Center415 Broadway St\, Paducah\, KY 42001 \nThursday\, April 9\, 20259:00 AM – 11:00 AM \nFree confidential HIV test and safer sex supplies!*Free gift card with HIV test while supplies last*
URL:https://livwellchs.org/event/turning-point-testing-event/
LOCATION:Turning Point Recovery Community Center\, 415 Broadway St\, Paducah\, KY\, 42001\, United States
CATEGORIES:Testing Event
END:VEVENT
BEGIN:VEVENT
DTSTART;TZID=America/Chicago:20260407T100000
DTEND;TZID=America/Chicago:20260407T120000
DTSTAMP:20260424T123056
CREATED:20250924T151120Z
LAST-MODIFIED:20260406T191608Z
UID:4688-1775556000-1775563200@livwellchs.org
SUMMARY:Testing Event: Coffee Connection
DESCRIPTION:Testing Event: Coffee Connection\nCoffee Connection910 S Main St\, Hopkinsville\, KY 42240 \nTuesday\, April 7\, 202610:00 AM – 12:00 PM \nFree confidential HIV test and safer sex supplies!*Free gift card with HIV test while supplies last*
URL:https://livwellchs.org/event/testing-event-coffee-connection/
LOCATION:Coffee Connection\, 910 S Main St\, Hopkinsville\, KY\, 42240\, United States
CATEGORIES:Testing Event
END:VEVENT
BEGIN:VEVENT
DTSTART;TZID=America/Chicago:20260406T090000
DTEND;TZID=America/Chicago:20260406T120000
DTSTAMP:20260424T123056
CREATED:20250203T143533Z
LAST-MODIFIED:20260406T191531Z
UID:4135-1775466000-1775476800@livwellchs.org
SUMMARY:Testing Event: Family Service Society
DESCRIPTION:Testing Event: Family Service Society\nFamily Service Society1225 Broadway St\, Paducah\, KY 42001 \nMonday\, April 6\, 20269:00 AM – 12:00 PM \nFree confidential HIV test and safer sex supplies!*Free gift card with HIV test while supplies last*
URL:https://livwellchs.org/event/testng-event-family-service-society/
LOCATION:Family Service Society\, 1225 Broadway St\, Paducah\, KY\, 42001\, United States
CATEGORIES:Testing Event
END:VEVENT
BEGIN:VEVENT
DTSTART;TZID=America/Chicago:20260328T150000
DTEND;TZID=America/Chicago:20260328T170000
DTSTAMP:20260424T123056
CREATED:20250923T192401Z
LAST-MODIFIED:20260304T175304Z
UID:4666-1774710000-1774717200@livwellchs.org
SUMMARY:Mt. Zion March Madness Health Fair
DESCRIPTION:Testing Event: Mt. Zion March Madness Health Fair\n1213 Walter Jetton Blvd\, Paducah\, KY 42003 \nSaturday\, March 28\, 2026 \n3:00 PM – 5:00 PM \nFree confidential HIV test and safe sex supplies! \n*Free gift card with HIV test while supplies last*
URL:https://livwellchs.org/event/testing-event-mt-zion-community-health-fair/
LOCATION:Mt Zion Baptist Church\, 1213 Walter Jetton Blvd\, Paducah\, KY\, 42003\, United States
CATEGORIES:Testing Event
END:VEVENT
BEGIN:VEVENT
DTSTART;TZID=America/Chicago:20260323T100000
DTEND;TZID=America/Chicago:20260323T130000
DTSTAMP:20260424T123056
CREATED:20260226T152541Z
LAST-MODIFIED:20260304T174057Z
UID:5492-1774260000-1774270800@livwellchs.org
SUMMARY:Know Your Status Testing Event
DESCRIPTION:Testing Event – Know Your Status\nSpence Community Center \n1209 E 5th St\, Metropolis\, IL 62960 \nMonday\, March 23\, 2026 \n10:00 AM – 1:00 PM \nFree confidential HIV test and safe sex supplies! \n*Free gift card with HIV test while supplies last*
URL:https://livwellchs.org/event/know-your-status/
LOCATION:Humma Apartments\, 126 E 3rd St\, Metropolis\, IL\, 62960\, United States
CATEGORIES:Testing Event
END:VEVENT
BEGIN:VEVENT
DTSTART;TZID=America/Chicago:20260307T190000
DTEND;TZID=America/Chicago:20260307T210000
DTSTAMP:20260424T123056
CREATED:20260203T164244Z
LAST-MODIFIED:20260225T165705Z
UID:5236-1772910000-1772917200@livwellchs.org
SUMMARY:Special Event: Black HIV Recognition
DESCRIPTION:Join us on Saturday\, March 7th at Home Plate Soul Food to honor and recognize National Black HIV/AIDS. Come together to celebrate culture\, community\, and honest conversation. Improving Access to Prevention and Care for Health Equity highlights the importance of advancing prevention\, testing\, and care in Black communities—no matter the location\, no matter the circumstance. \nEmcee: Daisha Johnson\nGuest Speaker: LaDonna Atkins RN\, MSN-ED\nTestimonial: Tamiko Warfield\nEntertainment: RedVelvet The Goddess and X4orce \nFree HIV testing\, safe sex supplies\, and sexual health education\n*Free gift card with HIV test while supplies last \nAll ages!\nFree admission! \nSaturday\, March 7\, 2026\n7:00 PM – 9:00 PM \nHome Plate Soul Food\n1200 North 8th Street\nPaducah\, KY 42001
URL:https://livwellchs.org/event/nbhaad-2026/
LOCATION:Home Plate Soul Food\, 1200 N 8th St\, Paducah\, 42001\, United States
CATEGORIES:Special Event,Testing Event
END:VEVENT
BEGIN:VEVENT
DTSTART;TZID=America/Chicago:20260304T120000
DTEND;TZID=America/Chicago:20260304T150000
DTSTAMP:20260424T123056
CREATED:20260223T191749Z
LAST-MODIFIED:20260304T173804Z
UID:5475-1772625600-1772636400@livwellchs.org
SUMMARY:Coffman Value Plus Testing Event
DESCRIPTION:Testing Event – Coffman Value Plus \n1730 Greenville Rd\, Hopkinsville\, KY 42240 \nWednesday\, March 4\, 2026 \n12:00 PM – 3:00 PM \nFree confidential HIV test and safe sex supplies! \n*Free gift card with HIV test while supplies last*
URL:https://livwellchs.org/event/coffman-value-plus-testing-event/
LOCATION:Coffman Value Plus\, 1730 Greenville Rd\, Hopkinsville\, KY\, 42240\, United States
CATEGORIES:Testing Event
END:VEVENT
BEGIN:VEVENT
DTSTART;TZID=America/Chicago:20260225T190000
DTEND;TZID=America/Chicago:20260225T220000
DTSTAMP:20260424T123056
CREATED:20260223T185657Z
LAST-MODIFIED:20260223T185657Z
UID:5467-1772046000-1772056800@livwellchs.org
SUMMARY:K-Count Free Meal and Resource Fair
DESCRIPTION:2026 K-Count Free Meal & Resource Fair\nCommunity Kitchen\n1237 Martin Luther King Jr Dr\, Paducah\, KY 42001 \nWednesday\, February 25\, 2026 \n7:00 PM – 10:00 PM \nFree confidential HIV test and safe sex supplies! \n*Free gift card with HIV test while supplies last*
URL:https://livwellchs.org/event/k-count/
LOCATION:Community Kitchen\, 1237 Martin Luther King Jr Dr\, Paducah\, KY\, 42001\, United States
CATEGORIES:Testing Event
END:VEVENT
BEGIN:VEVENT
DTSTART;TZID=America/Chicago:20260224T100000
DTEND;TZID=America/Chicago:20260224T140000
DTSTAMP:20260424T123056
CREATED:20260105T153039Z
LAST-MODIFIED:20260209T151213Z
UID:5036-1771927200-1771941600@livwellchs.org
SUMMARY:Murray State University Testing Event
DESCRIPTION:Testing Event – Murray State University\nOakley Resource Center\nOakley Applied Science Building\, Murray State University\, Murray\, KY 42071 \nTuesday\, February 24\, 2026 \n10:00 AM – 2:00 PM \nFree confidential HIV test and safe sex supplies! \n*Free gift card with HIV test while supplies last*
URL:https://livwellchs.org/event/testing-event-murray-state-university/
LOCATION:MSU Oakley Applied Science Building\, Oakley Applied Science Building\, Murray State University\, Murray\, KY\, 42071\, United States
CATEGORIES:Testing Event
END:VEVENT
BEGIN:VEVENT
DTSTART;TZID=America/Chicago:20260204T140000
DTEND;TZID=America/Chicago:20260204T160000
DTSTAMP:20260424T123056
CREATED:20250203T143730Z
LAST-MODIFIED:20260223T191745Z
UID:4137-1770213600-1770220800@livwellchs.org
SUMMARY:Coffman Value Plus Testing Event
DESCRIPTION:Testing Event – Coffman Value Plus \n1730 Greenville Rd\, Hopkinsville\, KY 42240 \nWednesday\, February 4\, 2026 \n2:00 PM – 4:00 PM \nFree confidential HIV test and safe sex supplies! \n*Free gift card with HIV test while supplies last* \n 
URL:https://livwellchs.org/event/testing-event-coffman-value-plus/
LOCATION:Coffman Value Plus\, 1730 Greenville Rd\, Hopkinsville\, KY\, 42240\, United States
CATEGORIES:Testing Event
END:VEVENT
BEGIN:VEVENT
DTSTART;TZID=America/Chicago:20251222T100000
DTEND;TZID=America/Chicago:20251222T140000
DTSTAMP:20260424T123056
CREATED:20251209T144413Z
LAST-MODIFIED:20260209T151137Z
UID:4949-1766397600-1766412000@livwellchs.org
SUMMARY:PrEP for the Holidays
DESCRIPTION:Testing Event – PrEP for the Holidays\nHumma Apartments \n126 E 3rd St\, Metropolis\, IL 62960 \nMonday\, December 22\, 2025 \n10:00 AM – 2:00 PM \nFree confidential HIV test and safe sex supplies! \n*Free gift card with HIV test while supplies last*
URL:https://livwellchs.org/event/testing-event-prep-for-the-holidays/
LOCATION:Humma Apartments\, 126 E 3rd St\, Metropolis\, IL\, 62960\, United States
CATEGORIES:Testing Event
END:VEVENT
BEGIN:VEVENT
DTSTART;TZID=America/Chicago:20251206T170000
DTEND;TZID=America/Chicago:20251206T210000
DTSTAMP:20260424T123056
CREATED:20251119T200740Z
LAST-MODIFIED:20260209T151132Z
UID:4875-1765040400-1765054800@livwellchs.org
SUMMARY:Paducah Pride World AIDS Day Event
DESCRIPTION:Testing Event – 4th Annual World AIDS Day Event\nPresented by Paducah Pride United Together Inc.\nW.C. Young Community Center \n505 South 8th Street\, Paducah\, KY 42003 \nSaturday\, December 6\, 2025 \n5:00 PM – 9:00 PM \nFree confidential HIV test and safe sex supplies! \n*Free gift card with HIV test while supplies last*
URL:https://livwellchs.org/event/testing-event-pput-world-aids-day/
LOCATION:W.C. Young Community Center\, 505 S 8th St\, Paducah\, 42003\, United States
CATEGORIES:Awareness Days,Testing Event
END:VEVENT
BEGIN:VEVENT
DTSTART;TZID=America/Chicago:20251114T100000
DTEND;TZID=America/Chicago:20251114T120000
DTSTAMP:20260424T123056
CREATED:20251027T181138Z
LAST-MODIFIED:20260209T151110Z
UID:4826-1763114400-1763121600@livwellchs.org
SUMMARY:Prevent and Protect Testing Event
DESCRIPTION:Testing Event – Prevent and Protect: Community Health Morning\nCalloway County Health Department\n602 Memory Lane\, Murray\, KY 42071 \nFriday\, November 14\, 2025 \n10:00 AM – 12:00 PM \nFree confidential HIV test and safe sex supplies! \n*Free gift card with HIV test while supplies last* \n 
URL:https://livwellchs.org/event/testing-event-prevent-and-protect/
LOCATION:Calloway County Health Department\, 602 Memory Ln\, Murray\, 42071\, United States
CATEGORIES:Testing Event
END:VEVENT
BEGIN:VEVENT
DTSTART;TZID=America/Chicago:20251028T130000
DTEND;TZID=America/Chicago:20251028T150000
DTSTAMP:20260424T123056
CREATED:20250923T200244Z
LAST-MODIFIED:20260209T151101Z
UID:4685-1761656400-1761663600@livwellchs.org
SUMMARY:Mercy Health Flu Shot Clinic
DESCRIPTION:Testing Event – Mercy Health Flu Shot Clinic at Family Service Society\n1225 Broadway St\, Paducah\, KY 42001 \nTuesday\, October 28\, 2025 \n1:00 PM – 3:00 PM \nFree confidential HIV test and safe sex supplies! \n*Free gift card with HIV test while supplies last*
URL:https://livwellchs.org/event/testing-event-mercy-health-flu-shot-clinic-2/
LOCATION:Family Service Society\, 1225 Broadway St\, Paducah\, KY\, 42001\, United States
CATEGORIES:Testing Event
END:VEVENT
BEGIN:VEVENT
DTSTART;TZID=America/Chicago:20251025T170000
DTEND;TZID=America/Chicago:20251025T210000
DTSTAMP:20260424T123056
CREATED:20250923T195752Z
LAST-MODIFIED:20260209T151056Z
UID:4680-1761411600-1761426000@livwellchs.org
SUMMARY:Confluence Music Festival
DESCRIPTION:Testing Event – Confluence Music Festival\nMarket House Courtyard Theatre \n122 Market House Square\, Paducah\, KY 42001 \nSaturday\, October 25\, 2025 \n5:00 PM – 9:00 PM \nFree confidential HIV test and safe sex supplies! \n*Free gift card with HIV test while supplies last*
URL:https://livwellchs.org/event/testing-event-confluence-music-festival/
LOCATION:Market House Courtyard Theatre\, 122 Market House Square\, Paducah\, KY\, 42001\, United States
CATEGORIES:Testing Event
END:VEVENT
BEGIN:VEVENT
DTSTART;TZID=America/Chicago:20251025T100000
DTEND;TZID=America/Chicago:20251025T140000
DTSTAMP:20260424T123056
CREATED:20250923T194801Z
LAST-MODIFIED:20260209T150833Z
UID:4676-1761386400-1761400800@livwellchs.org
SUMMARY:Community Resource Expo
DESCRIPTION:Testing Event – Community Resource Expo & Drug Take Back Day\nNinth Street Church of Christ \n715 S 9th St\, Paducah\, KY 42003 \nSaturday\, October 25\, 2025 \n10:00 AM – 2:00 PM \nFree confidential HIV test and safe sex supplies! \n*Free gift card with HIV test while supplies last*
URL:https://livwellchs.org/event/testing-event-community-resource-expo/
LOCATION:Ninth Street Church of Christ\, 715 S 9th St\, Paducah\, KY\, 42003\, United States
CATEGORIES:Resource Fair,Testing Event
END:VEVENT
BEGIN:VEVENT
DTSTART;TZID=America/Chicago:20251022T100000
DTEND;TZID=America/Chicago:20251022T153000
DTSTAMP:20260424T123056
CREATED:20251009T185446Z
LAST-MODIFIED:20260209T151051Z
UID:4791-1761127200-1761147000@livwellchs.org
SUMMARY:Scare Away Stigma on the Boo Bus
DESCRIPTION:Boo Bus Testing Tour to Scare Away Stigma\nVisit the mobile unit at any of the scheduled stops to receive a free confidential HIV test and safe sex supplies. \nWednesday\, October 22\, 2025 \n10:00 AM – 11:30 AM: MSU Parking Services (by Collins Center)\, 1375 Chestnut St\, Murray\, KY 42071 \n12:00 PM – 1:30 PM: Food Giant\, 940 S 12th St\, Murray\, KY 42071 \n2:00 PM – 3:30 PM: Marshall County Public Library\, 1150 Birch St\, Benton\, KY 42025 \nStay tuned for more testing stops and times! \n*Free gift card with HIV test while supplies last*
URL:https://livwellchs.org/event/testing-event-scare-away-stigma-on-the-boo-bus/
LOCATION:KY
CATEGORIES:Testing Event
END:VEVENT
BEGIN:VEVENT
DTSTART;TZID=America/Chicago:20251002T130000
DTEND;TZID=America/Chicago:20251002T150000
DTSTAMP:20260424T123056
CREATED:20250923T180827Z
LAST-MODIFIED:20260209T150829Z
UID:4657-1759410000-1759417200@livwellchs.org
SUMMARY:Mercy Health Flu Shot Clinic
DESCRIPTION:Testing Event – Mercy Health Flu Shot Clinic at McCracken County Public Library\n555 Washington St\, Paducah\, KY 42003 \nThursday\, October 2\, 2025 \n1:00 PM – 3:00 PM \nFree confidential HIV test and safe sex supplies! \n*Free gift card with HIV test while supplies last*
URL:https://livwellchs.org/event/testing-event-mercy-health-flu-shot-clinic/
LOCATION:McCracken County Public Library\, 555 Washington St\, Paducah\, KY\, 42003\, United States
CATEGORIES:Resource Fair,Testing Event
END:VEVENT
BEGIN:VEVENT
DTSTART;TZID=America/Chicago:20250924T110000
DTEND;TZID=America/Chicago:20250924T170000
DTSTAMP:20260424T123056
CREATED:20250922T170153Z
LAST-MODIFIED:20260209T150825Z
UID:4642-1758711600-1758733200@livwellchs.org
SUMMARY:Women's Health and Fitness Day
DESCRIPTION:Testing Event – National Women’s Health and Fitness Day\nHopkins County-Madisonville Public Library \n425 E Center St\, Madisonville\, KY 42431 \nWednesday\, September 24\, 2025 \n11:00 AM – 5:00 PM \nFree confidential HIV test and safe sex supplies! \n*Free gift card with HIV test while supplies last*
URL:https://livwellchs.org/event/testing-event-womens-health-and-fitness-day/
LOCATION:Hopkins County-Madisonville Public Library\, 425 E Center St\, Madisonville\, 42431\, United States
CATEGORIES:Resource Fair,Testing Event
END:VEVENT
BEGIN:VEVENT
DTSTART;TZID=America/Chicago:20250830T100000
DTEND;TZID=America/Chicago:20250830T150000
DTSTAMP:20260424T123056
CREATED:20250826T153154Z
LAST-MODIFIED:20260209T151043Z
UID:4581-1756548000-1756566000@livwellchs.org
SUMMARY:Murray Pride
DESCRIPTION:Murray Pride – Mobile Unit Testing Event\nDowntown Murray\, KY \nSaturday\, August 30\, 2025 \n10:00 AM – 3:00 PM \nFree confidential HIV test and safe sex supplies! \n*Free gift card with HIV test while supplies last*
URL:https://livwellchs.org/event/testing-event-murray-pride/
LOCATION:KY
CATEGORIES:Testing Event
END:VEVENT
BEGIN:VEVENT
DTSTART;TZID=America/Chicago:20250827T103000
DTEND;TZID=America/Chicago:20250827T130000
DTSTAMP:20260424T123056
CREATED:20250826T153612Z
LAST-MODIFIED:20260209T151037Z
UID:4588-1756290600-1756299600@livwellchs.org
SUMMARY:FADEZ Barbershop Testing Event
DESCRIPTION:FADEZ Barbershop – Mobile Unit Testing Event\n1300 Park Ave\, Paducah\, KY 42001 \nWednesday\, August 27\, 2025 \n10:30 AM – 1:00 PM \nFree confidential HIV test and safe sex supplies! \n*Free gift card with HIV test while supplies last*
URL:https://livwellchs.org/event/testing-event-fadez-barbershop/
LOCATION:FADEZ Barbershop\, 1300 Park Ave\, Paducah\, 42001\, United States
CATEGORIES:Testing Event
END:VEVENT
BEGIN:VEVENT
DTSTART;TZID=America/Chicago:20250809T120000
DTEND;TZID=America/Chicago:20250809T160000
DTSTAMP:20260424T123056
CREATED:20250728T152259Z
LAST-MODIFIED:20260209T150822Z
UID:4484-1754740800-1754755200@livwellchs.org
SUMMARY:Emancipation Celebration
DESCRIPTION:Testing Event – Emancipation Celebration\nRobert Coleman Park \n1100 Walter Jetton Blvd\, Paducah\, KY 42003 \nSaturday\, August 9\, 2025 \n12:00 PM – 4:00 PM \nFree confidential HIV test and safe sex supplies! \n*Free gift card with HIV test while supplies last*
URL:https://livwellchs.org/event/emancipation-celebration/
LOCATION:Robert Coleman Park\, 1100 Walter Jetton Blvd\, Paducah\, KY\, 42001\, United States
CATEGORIES:Resource Fair,Testing Event
END:VEVENT
BEGIN:VEVENT
DTSTART;TZID=America/Chicago:20250725T110000
DTEND;TZID=America/Chicago:20250725T140000
DTSTAMP:20260424T123056
CREATED:20250630T155935Z
LAST-MODIFIED:20260209T151030Z
UID:4360-1753441200-1753452000@livwellchs.org
SUMMARY:Housing Authority Community Day
DESCRIPTION:Testing Event – Housing Authority of Paducah\nCommunity Day 2025\nRobert Coleman Park \n1100 Walter Jetton Blvd\, Paducah\, KY 42003 \nFriday\, July 25\, 2025 \n11:00 AM – 2:00 PM \nFree confidential HIV test and safe sex supplies! \n*Free gift card with HIV test while supplies last*
URL:https://livwellchs.org/event/testing-event-housing-authority-community-day/
LOCATION:Robert Coleman Park\, 1100 Walter Jetton Blvd\, Paducah\, KY\, 42001\, United States
CATEGORIES:Testing Event
END:VEVENT
BEGIN:VEVENT
DTSTART;TZID=America/Chicago:20250722T150000
DTEND;TZID=America/Chicago:20250722T180000
DTSTAMP:20260424T123056
CREATED:20250630T155427Z
LAST-MODIFIED:20260105T163001Z
UID:4355-1753196400-1753207200@livwellchs.org
SUMMARY:Community Medical Clinic
DESCRIPTION:Community Medical Clinic\nDotson Park \nNorth Donnivan Street & Calvert Street\, Princeton\, KY 42445 \nTuesday\, July 22\, 2025 \n3:00 PM – 6:00 PM \nFree safe sex supplies!
URL:https://livwellchs.org/event/testing-event-community-medical-clinic/
LOCATION:Dotson Park\, N Donnivan St & Calvert St\, Princeton\, KY\, 42445\, United States
CATEGORIES:Resource Fair,Testing Event
END:VEVENT
BEGIN:VEVENT
DTSTART;TZID=America/Chicago:20250626T080000
DTEND;TZID=America/Chicago:20250626T174500
DTSTAMP:20260424T123056
CREATED:20250623T211024Z
LAST-MODIFIED:20260209T151026Z
UID:4341-1750924800-1750959900@livwellchs.org
SUMMARY:Know Your Status Testing Tour
DESCRIPTION:National HIV Testing Day\nKnow Your Status Testing Tour\nVisit the mobile unit at any of the scheduled stops to receive a free confidential HIV test and safe sex supplies. \nThursday\, June 26\, 2025 \n8:00 AM – 9:45 AM: Employment & Training Office\, 416 S 6th St\, Paducah\, KY 42003 \n10:00 AM – 11:45 AM: McCracken County Public Library\, 555 Washington St\, Paducah\, KY 42003 \n12:00 PM – 1:45 PM: Goodwill Opportunity Center\, 1601 Broadway St\, Paducah\, KY 42001 \n2:00 PM – 3:45 PM: Marathon Gas T Mart\, 2946 Old Mayfield Rd\, Paducah\, KY 42003 \n4:00 PM – 5:45 PM: Rhodes Convenience Store\, 2404 Lone Oak Rd\, Paducah\, KY 42003 \n*Free gift card with HIV test while supplies last*
URL:https://livwellchs.org/event/testing-event-know-your-status-testing-tour/
LOCATION:KY
CATEGORIES:Testing Event
END:VEVENT
BEGIN:VEVENT
DTSTART;TZID=America/Chicago:20250622T160000
DTEND;TZID=America/Chicago:20250622T200000
DTSTAMP:20260424T123056
CREATED:20250616T194730Z
LAST-MODIFIED:20260105T163019Z
UID:4332-1750608000-1750622400@livwellchs.org
SUMMARY:Juneteenth Sundaze in the Park
DESCRIPTION:Testing Event – Paducah’s 4th Annual Juneteenth\nSundaze in the Park\nRobert Coleman Park \n1100 Walter Jetton Blvd\, Paducah\, KY 42003 \nSunday\, June 22\, 2025 \n4:00 PM – 8:00 PM \nFree confidential HIV test and safe sex supplies! \n*Free gift card with HIV test while supplies last*
URL:https://livwellchs.org/event/juneteenth-sundaze-in-the-park/
LOCATION:Robert Coleman Park\, 1100 Walter Jetton Blvd\, Paducah\, KY\, 42001\, United States
CATEGORIES:Resource Fair,Testing Event
END:VEVENT
BEGIN:VEVENT
DTSTART;TZID=America/Chicago:20250620T173000
DTEND;TZID=America/Chicago:20250620T203000
DTSTAMP:20260424T123056
CREATED:20250616T194339Z
LAST-MODIFIED:20260105T163023Z
UID:4325-1750440600-1750451400@livwellchs.org
SUMMARY:Juneteenth Concert on the Lawn
DESCRIPTION:Testing Event – Paducah’s 4th Annual Juneteenth\nConcert on the Lawn\nNational Quilt Museum \n415 Park St\, Paducah\, KY 42001 \nFriday\, June 20\, 2025 \n5:30 PM – 8:30 PM \nFree confidential HIV test and safe sex supplies! \n*Free gift card with HIV test while supplies last*
URL:https://livwellchs.org/event/juneteenth/
LOCATION:National Quilt Museum\, 215 Jefferson St\, Paducah\, KY\, 42001\, United States
CATEGORIES:Resource Fair,Testing Event
END:VEVENT
BEGIN:VEVENT
DTSTART;TZID=America/Chicago:20250614T110000
DTEND;TZID=America/Chicago:20250614T110000
DTSTAMP:20260424T123056
CREATED:20250604T151433Z
LAST-MODIFIED:20260209T150739Z
UID:4311-1749898800-1749898800@livwellchs.org
SUMMARY:Paducah Pride United Together 2025 Pride Festival
DESCRIPTION:Testing Event – Paducah Pride United Together 2025 Pride Festival\nPaducah-McCracken Co. Convention & Expo Center \n415 Park St\, Paducah\, KY 42001 \nSaturday\, June 14\, 2025 \n11:00 AM \nFree confidential HIV test and safe sex supplies! \n*Free gift card with HIV test while supplies last*
URL:https://livwellchs.org/event/testing-event-paducah-pride-united-together-2025-pride-festival/
LOCATION:Paducah-McCracken Co. Convention & Expo Center\, 415 Park St\, Paducah\, KY\, 42001\, United States
CATEGORIES:Resource Fair,Testing Event
END:VEVENT
BEGIN:VEVENT
DTSTART;TZID=America/Chicago:20250614T080000
DTEND;TZID=America/Chicago:20250614T100000
DTSTAMP:20260424T123056
CREATED:20250604T145905Z
LAST-MODIFIED:20260209T150957Z
UID:4306-1749888000-1749895200@livwellchs.org
SUMMARY:Alpha Cares Community Health & Wellness Fair
DESCRIPTION:Testing Event – Alpha Cares Community Health & Wellness Fair\nNinth Street Church of Christ \n715 S 9th St\, Paducah\, KY 42003 \nSaturday\, June 14\, 2025 \n8:00 AM – 10:00 AM \nFree confidential HIV test and safe sex supplies! \n*Free gift card with HIV test while supplies last*
URL:https://livwellchs.org/event/testing-event-alpha-cares-community-health-wellness-fair/
LOCATION:Ninth Street Church of Christ\, 715 S 9th St\, Paducah\, KY\, 42003\, United States
CATEGORIES:Testing Event
END:VEVENT
END:VCALENDAR