BEGIN:VCALENDAR
VERSION:2.0
PRODID:-//LivWell Community Health Services - ECPv6.15.20//NONSGML v1.0//EN
CALSCALE:GREGORIAN
METHOD:PUBLISH
X-WR-CALNAME:LivWell Community Health Services
X-ORIGINAL-URL:https://livwellchs.org
X-WR-CALDESC:Events for LivWell Community Health Services
REFRESH-INTERVAL;VALUE=DURATION:PT1H
X-Robots-Tag:noindex
X-PUBLISHED-TTL:PT1H
BEGIN:VTIMEZONE
TZID:America/Chicago
BEGIN:DAYLIGHT
TZOFFSETFROM:-0600
TZOFFSETTO:-0500
TZNAME:CDT
DTSTART:20200308T080000
END:DAYLIGHT
BEGIN:STANDARD
TZOFFSETFROM:-0500
TZOFFSETTO:-0600
TZNAME:CST
DTSTART:20201101T070000
END:STANDARD
BEGIN:DAYLIGHT
TZOFFSETFROM:-0600
TZOFFSETTO:-0500
TZNAME:CDT
DTSTART:20210314T080000
END:DAYLIGHT
BEGIN:STANDARD
TZOFFSETFROM:-0500
TZOFFSETTO:-0600
TZNAME:CST
DTSTART:20211107T070000
END:STANDARD
BEGIN:DAYLIGHT
TZOFFSETFROM:-0600
TZOFFSETTO:-0500
TZNAME:CDT
DTSTART:20220313T080000
END:DAYLIGHT
BEGIN:STANDARD
TZOFFSETFROM:-0500
TZOFFSETTO:-0600
TZNAME:CST
DTSTART:20221106T070000
END:STANDARD
BEGIN:DAYLIGHT
TZOFFSETFROM:-0600
TZOFFSETTO:-0500
TZNAME:CDT
DTSTART:20230312T080000
END:DAYLIGHT
BEGIN:STANDARD
TZOFFSETFROM:-0500
TZOFFSETTO:-0600
TZNAME:CST
DTSTART:20231105T070000
END:STANDARD
BEGIN:DAYLIGHT
TZOFFSETFROM:-0600
TZOFFSETTO:-0500
TZNAME:CDT
DTSTART:20240310T080000
END:DAYLIGHT
BEGIN:STANDARD
TZOFFSETFROM:-0500
TZOFFSETTO:-0600
TZNAME:CST
DTSTART:20241103T070000
END:STANDARD
BEGIN:DAYLIGHT
TZOFFSETFROM:-0600
TZOFFSETTO:-0500
TZNAME:CDT
DTSTART:20250309T080000
END:DAYLIGHT
BEGIN:STANDARD
TZOFFSETFROM:-0500
TZOFFSETTO:-0600
TZNAME:CST
DTSTART:20251102T070000
END:STANDARD
BEGIN:DAYLIGHT
TZOFFSETFROM:-0600
TZOFFSETTO:-0500
TZNAME:CDT
DTSTART:20260308T080000
END:DAYLIGHT
BEGIN:STANDARD
TZOFFSETFROM:-0500
TZOFFSETTO:-0600
TZNAME:CST
DTSTART:20261101T070000
END:STANDARD
END:VTIMEZONE
BEGIN:VEVENT
DTSTART;TZID=America/Chicago:20250419T193000
DTEND;TZID=America/Chicago:20250419T223000
DTSTAMP:20260424T171643
CREATED:20250401T214239Z
LAST-MODIFIED:20260209T150801Z
UID:4230-1745091000-1745101800@livwellchs.org
SUMMARY:Spring Drag EGGstravaganza
DESCRIPTION:Testing Event – Spring Drag EGGstravaganza\nPaducah Beer Werks \n301 N 4th St\, Paducah\, KY 42001 \nSaturday\, April 19\, 2025 \n7:30 PM – 10:30 PM \nFree confidential HIV test and safe sex supplies! \n*Free gift card with HIV test while supplies last*
URL:https://livwellchs.org/event/testing-event-spring-drag-eggstravaganza/
LOCATION:Paducah Beer Werks\, 301 N 4th St\, Paducah\, KY\, 42001\, United States
CATEGORIES:Resource Fair,Testing Event
END:VEVENT
BEGIN:VEVENT
DTSTART;TZID=America/Chicago:20250413T170000
DTEND;TZID=America/Chicago:20250413T200000
DTSTAMP:20260424T171643
CREATED:20250313T140939Z
LAST-MODIFIED:20260209T150452Z
UID:4167-1744563600-1744574400@livwellchs.org
SUMMARY:Engage. Educate. Empower. - Honoring Black HIV/AIDS Awareness Day
DESCRIPTION:Engage. Educate. Empower.Honoring Black HIV/AIDS Awareness Day.Hosted by Paducah-McCracken Co. KY NAACP and\nPaducah Alumnae Chapter of Delta Sigma Theta Sorority\, Inc.\nJoin us on Sunday\, April 13th\, at the beautiful French Quarter for a powerful evening of awareness\, education\, and community action in honor of Black HIV/AIDS Awareness Day. Featuring guest speakers\, personal testimonials from community members living with HIV\, and live musical performances by Simone Mitchell\, Clifton Davis\, and Kasper BrightsideBLVD. \nEnjoy free appetizers provided by Broussard’s\, Mellow Mushroom\, and Etcetera Coffee House. A cash bar will also be available. \nLivWell Community Health Services will be providing free HIV testing\, safe sex supplies\, and answering any questions you may have about protecting your sexual health! *Free gift card with HIV test while supplies last* \nThis event is FREE and open to the public. Let’s come together to uplift\, inform\, and support the community we love. We’ll see you there! \n\nDate: Sunday\, April 13\, 2025Time: 5:00 PM – 8:00 PMLocation: The French Quarter at Broussard’s Cajun Cuisine123 N 2nd St\, Paducah\, KY 42001
URL:https://livwellchs.org/event/nbhaad-2025/
LOCATION:The French Quater at Broussard’s Cajun Cuisine\, 123 N 2nd St\, Paducah\, KY\, 42001\, United States
CATEGORIES:Awareness Days,Testing Event
ORGANIZER;CN="LivWell Community Health Services":MAILTO:communications@livwellchs.org
END:VEVENT
BEGIN:VEVENT
DTSTART;TZID=America/Chicago:20250409T110000
DTEND;TZID=America/Chicago:20250409T140000
DTSTAMP:20260424T171643
CREATED:20250401T213754Z
LAST-MODIFIED:20260209T150804Z
UID:4225-1744196400-1744207200@livwellchs.org
SUMMARY:Healthy Hive Wellness Fair
DESCRIPTION:Testing Event – Healthy Hive Wellness Fair\nHousing Authority of Paducah \n501 Cherry Circle\, Paducah\, KY 42003 \nWednesday\, April 9\, 2025 \n11:00 AM – 2:00 PM \nFree confidential HIV test and safe sex supplies! \n*Free gift card with HIV test while supplies last*
URL:https://livwellchs.org/event/testing-event-healthy-hive-wellness-fair/
LOCATION:Housing Authority of Paducah\, 501 Cherry Circle\, Paducah\, KY\, 42003\, United States
CATEGORIES:Resource Fair,Testing Event
END:VEVENT
BEGIN:VEVENT
DTSTART;TZID=America/Chicago:20250113T130000
DTEND;TZID=America/Chicago:20250113T160000
DTSTAMP:20260424T171643
CREATED:20250113T203943Z
LAST-MODIFIED:20260209T150932Z
UID:4125-1736773200-1736784000@livwellchs.org
SUMMARY:Sweepstakes Testing Event
DESCRIPTION:Sweepstakes Smoker’s Paradise\n858 Joe Clifton Dr\, Paducah\, KY 42001 \n1/13/2025 \n1:00pm – 4:00pm \nFree confidential HIV testing and safe sex supplies! \n*Gift card with HIV test while supplies last*
URL:https://livwellchs.org/event/testing-event-sweepstakes/
LOCATION:KY
CATEGORIES:Testing Event
END:VEVENT
BEGIN:VEVENT
DTSTART;TZID=America/Chicago:20241010T080000
DTEND;TZID=America/Chicago:20241010T230000
DTSTAMP:20260424T171643
CREATED:20241008T163619Z
LAST-MODIFIED:20260209T150044Z
UID:4095-1728547200-1728601200@livwellchs.org
SUMMARY:Dining Out For Life 2024!
DESCRIPTION:  \nDining Out For Life® has returned to the Western Kentucky area in 2024! Join us on October 10th\, for a day of dining out in support of LivWell Community Health Services and the ongoing effort to end HIV in your local communities! During this one-day event\, when you dine at a participating restaurant a portion of your bill is donated to LivWell Community Health Services to aid in our mission of enhancing the wellbeing of our community by providing comprehensive health and support services\, education\, and advocacy to those most impacted by HIV!
URL:https://livwellchs.org/event/dining-out-for-life-2024/
LOCATION:KY
CATEGORIES:Special Event
END:VEVENT
BEGIN:VEVENT
DTSTART;TZID=America/Chicago:20240523T180000
DTEND;TZID=America/Chicago:20240523T210000
DTSTAMP:20260424T171643
CREATED:20240229T141923Z
LAST-MODIFIED:20260209T150039Z
UID:3718-1716487200-1716498000@livwellchs.org
SUMMARY:Springtini 2024!
DESCRIPTION:Mark your calendars for May 23rd as SpringTINI returns to Downtown Paducah in 2024! Join us for a fun night of mixing and mingling\, while enjoying delicious cocktails and small bites from our area’s finest bartenders and favorite restaurants and bars!\nYou’ll also enjoy live music\, a live auction\, voting for favorite bartender and MORE all while helping to raise important funds for client services at LivWell Community Health Services in Paducah.\n\nTickets go on sale March 15th!\n 
URL:https://livwellchs.org/event/springtini-2024/
LOCATION:Market House Square\, 200 Broadway\, Paducah\, KY\, United States
CATEGORIES:Special Event
END:VEVENT
BEGIN:VEVENT
DTSTART;TZID=America/Chicago:20240225T180000
DTEND;TZID=America/Chicago:20240225T230000
DTSTAMP:20260424T171643
CREATED:20240207T164628Z
LAST-MODIFIED:20260209T150436Z
UID:3702-1708884000-1708902000@livwellchs.org
SUMMARY:2nd Annual Evening of Excellence: In Honor of National Black HIV/AIDS Awareness Day
DESCRIPTION:
URL:https://livwellchs.org/event/2nd-annual-evening-of-excellence-in-honor-of-national-black-hiv-aids-awareness-day/
LOCATION:The 1857 Hotel\, 210 Kentucky Ave\, Paducah\, KY\, United States
CATEGORIES:Awareness Days,Testing Event
END:VEVENT
BEGIN:VEVENT
DTSTART;TZID=America/Chicago:20220226T110000
DTEND;TZID=America/Chicago:20220226T150000
DTSTAMP:20260424T171643
CREATED:20220207T152743Z
LAST-MODIFIED:20260209T150446Z
UID:2602-1645873200-1645887600@livwellchs.org
SUMMARY:National Black HIV/AIDS Awareness Testing Event
DESCRIPTION:
URL:https://livwellchs.org/event/national-black-hiv-aids-awareness-testing-event/
LOCATION:KY
CATEGORIES:Awareness Days,Testing Event
END:VEVENT
BEGIN:VEVENT
DTSTART;TZID=America/Chicago:20220209T133000
DTEND;TZID=America/Chicago:20220209T163000
DTSTAMP:20260424T171643
CREATED:20220207T193000Z
LAST-MODIFIED:20260105T163237Z
UID:2599-1644413400-1644424200@livwellchs.org
SUMMARY:Testing Event at Murray State
DESCRIPTION:
URL:https://livwellchs.org/event/testing-event-at-murray-state/
LOCATION:KY
CATEGORIES:Testing Event
END:VEVENT
BEGIN:VEVENT
DTSTART;TZID=America/Chicago:20211201T160000
DTEND;TZID=America/Chicago:20211201T170000
DTSTAMP:20260424T171643
CREATED:20211129T220000Z
LAST-MODIFIED:20260209T150441Z
UID:2495-1638374400-1638378000@livwellchs.org
SUMMARY:World AIDS Day Memorial Walk
DESCRIPTION:Please note that our offices will close at 4PM on Wednesday\, December 1st.
URL:https://livwellchs.org/event/world-aids-day-memorial-walk/
LOCATION:KY
CATEGORIES:Awareness Days,Special Event
END:VEVENT
END:VCALENDAR