BEGIN:VCALENDAR
VERSION:2.0
PRODID:-//LivWell Community Health Services - ECPv6.15.20//NONSGML v1.0//EN
CALSCALE:GREGORIAN
METHOD:PUBLISH
X-WR-CALNAME:LivWell Community Health Services
X-ORIGINAL-URL:https://livwellchs.org
X-WR-CALDESC:Events for LivWell Community Health Services
REFRESH-INTERVAL;VALUE=DURATION:PT1H
X-Robots-Tag:noindex
X-PUBLISHED-TTL:PT1H
BEGIN:VTIMEZONE
TZID:America/Chicago
BEGIN:DAYLIGHT
TZOFFSETFROM:-0600
TZOFFSETTO:-0500
TZNAME:CDT
DTSTART:20240310T080000
END:DAYLIGHT
BEGIN:STANDARD
TZOFFSETFROM:-0500
TZOFFSETTO:-0600
TZNAME:CST
DTSTART:20241103T070000
END:STANDARD
BEGIN:DAYLIGHT
TZOFFSETFROM:-0600
TZOFFSETTO:-0500
TZNAME:CDT
DTSTART:20250309T080000
END:DAYLIGHT
BEGIN:STANDARD
TZOFFSETFROM:-0500
TZOFFSETTO:-0600
TZNAME:CST
DTSTART:20251102T070000
END:STANDARD
BEGIN:DAYLIGHT
TZOFFSETFROM:-0600
TZOFFSETTO:-0500
TZNAME:CDT
DTSTART:20260308T080000
END:DAYLIGHT
BEGIN:STANDARD
TZOFFSETFROM:-0500
TZOFFSETTO:-0600
TZNAME:CST
DTSTART:20261101T070000
END:STANDARD
END:VTIMEZONE
BEGIN:VEVENT
DTSTART;TZID=America/Chicago:20250614T080000
DTEND;TZID=America/Chicago:20250614T100000
DTSTAMP:20260424T220641
CREATED:20250604T145905Z
LAST-MODIFIED:20260209T150957Z
UID:4306-1749888000-1749895200@livwellchs.org
SUMMARY:Alpha Cares Community Health & Wellness Fair
DESCRIPTION:Testing Event – Alpha Cares Community Health & Wellness Fair\nNinth Street Church of Christ \n715 S 9th St\, Paducah\, KY 42003 \nSaturday\, June 14\, 2025 \n8:00 AM – 10:00 AM \nFree confidential HIV test and safe sex supplies! \n*Free gift card with HIV test while supplies last*
URL:https://livwellchs.org/event/testing-event-alpha-cares-community-health-wellness-fair/
LOCATION:Ninth Street Church of Christ\, 715 S 9th St\, Paducah\, KY\, 42003\, United States
CATEGORIES:Testing Event
END:VEVENT
BEGIN:VEVENT
DTSTART;TZID=America/Chicago:20250614T110000
DTEND;TZID=America/Chicago:20250614T110000
DTSTAMP:20260424T220641
CREATED:20250604T151433Z
LAST-MODIFIED:20260209T150739Z
UID:4311-1749898800-1749898800@livwellchs.org
SUMMARY:Paducah Pride United Together 2025 Pride Festival
DESCRIPTION:Testing Event – Paducah Pride United Together 2025 Pride Festival\nPaducah-McCracken Co. Convention & Expo Center \n415 Park St\, Paducah\, KY 42001 \nSaturday\, June 14\, 2025 \n11:00 AM \nFree confidential HIV test and safe sex supplies! \n*Free gift card with HIV test while supplies last*
URL:https://livwellchs.org/event/testing-event-paducah-pride-united-together-2025-pride-festival/
LOCATION:Paducah-McCracken Co. Convention & Expo Center\, 415 Park St\, Paducah\, KY\, 42001\, United States
CATEGORIES:Resource Fair,Testing Event
END:VEVENT
BEGIN:VEVENT
DTSTART;TZID=America/Chicago:20250620T173000
DTEND;TZID=America/Chicago:20250620T203000
DTSTAMP:20260424T220641
CREATED:20250616T194339Z
LAST-MODIFIED:20260105T163023Z
UID:4325-1750440600-1750451400@livwellchs.org
SUMMARY:Juneteenth Concert on the Lawn
DESCRIPTION:Testing Event – Paducah’s 4th Annual Juneteenth\nConcert on the Lawn\nNational Quilt Museum \n415 Park St\, Paducah\, KY 42001 \nFriday\, June 20\, 2025 \n5:30 PM – 8:30 PM \nFree confidential HIV test and safe sex supplies! \n*Free gift card with HIV test while supplies last*
URL:https://livwellchs.org/event/juneteenth/
LOCATION:National Quilt Museum\, 215 Jefferson St\, Paducah\, KY\, 42001\, United States
CATEGORIES:Resource Fair,Testing Event
END:VEVENT
BEGIN:VEVENT
DTSTART;TZID=America/Chicago:20250622T160000
DTEND;TZID=America/Chicago:20250622T200000
DTSTAMP:20260424T220641
CREATED:20250616T194730Z
LAST-MODIFIED:20260105T163019Z
UID:4332-1750608000-1750622400@livwellchs.org
SUMMARY:Juneteenth Sundaze in the Park
DESCRIPTION:Testing Event – Paducah’s 4th Annual Juneteenth\nSundaze in the Park\nRobert Coleman Park \n1100 Walter Jetton Blvd\, Paducah\, KY 42003 \nSunday\, June 22\, 2025 \n4:00 PM – 8:00 PM \nFree confidential HIV test and safe sex supplies! \n*Free gift card with HIV test while supplies last*
URL:https://livwellchs.org/event/juneteenth-sundaze-in-the-park/
LOCATION:Robert Coleman Park\, 1100 Walter Jetton Blvd\, Paducah\, KY\, 42001\, United States
CATEGORIES:Resource Fair,Testing Event
END:VEVENT
BEGIN:VEVENT
DTSTART;TZID=America/Chicago:20250626T080000
DTEND;TZID=America/Chicago:20250626T174500
DTSTAMP:20260424T220641
CREATED:20250623T211024Z
LAST-MODIFIED:20260209T151026Z
UID:4341-1750924800-1750959900@livwellchs.org
SUMMARY:Know Your Status Testing Tour
DESCRIPTION:National HIV Testing Day\nKnow Your Status Testing Tour\nVisit the mobile unit at any of the scheduled stops to receive a free confidential HIV test and safe sex supplies. \nThursday\, June 26\, 2025 \n8:00 AM – 9:45 AM: Employment & Training Office\, 416 S 6th St\, Paducah\, KY 42003 \n10:00 AM – 11:45 AM: McCracken County Public Library\, 555 Washington St\, Paducah\, KY 42003 \n12:00 PM – 1:45 PM: Goodwill Opportunity Center\, 1601 Broadway St\, Paducah\, KY 42001 \n2:00 PM – 3:45 PM: Marathon Gas T Mart\, 2946 Old Mayfield Rd\, Paducah\, KY 42003 \n4:00 PM – 5:45 PM: Rhodes Convenience Store\, 2404 Lone Oak Rd\, Paducah\, KY 42003 \n*Free gift card with HIV test while supplies last*
URL:https://livwellchs.org/event/testing-event-know-your-status-testing-tour/
LOCATION:KY
CATEGORIES:Testing Event
END:VEVENT
BEGIN:VEVENT
DTSTART;TZID=America/Chicago:20250629T130000
DTEND;TZID=America/Chicago:20250629T150000
DTSTAMP:20260424T220641
CREATED:20250616T200014Z
LAST-MODIFIED:20260105T163006Z
UID:4336-1751202000-1751209200@livwellchs.org
SUMMARY:Frankfurter Fiesta
DESCRIPTION:Public Event – Frankfurter Fiesta\nTurning Point Recovery Community Center \n415 Broadway St\, Paducah\, KY 42001 \nSunday\, June 29\, 2025 \n1:00 PM – 3:00 PM \nFree confidential HIV test and safe sex supplies!
URL:https://livwellchs.org/event/frankfurter-fiesta/
LOCATION:Turning Point Recovery Community Center\, 415 Broadway St\, Paducah\, KY\, 42001\, United States
CATEGORIES:Resource Fair
END:VEVENT
END:VCALENDAR