BEGIN:VCALENDAR
VERSION:2.0
PRODID:-//LivWell Community Health Services - ECPv6.15.20//NONSGML v1.0//EN
CALSCALE:GREGORIAN
METHOD:PUBLISH
X-WR-CALNAME:LivWell Community Health Services
X-ORIGINAL-URL:https://livwellchs.org
X-WR-CALDESC:Events for LivWell Community Health Services
REFRESH-INTERVAL;VALUE=DURATION:PT1H
X-Robots-Tag:noindex
X-PUBLISHED-TTL:PT1H
BEGIN:VTIMEZONE
TZID:America/Chicago
BEGIN:DAYLIGHT
TZOFFSETFROM:-0600
TZOFFSETTO:-0500
TZNAME:CDT
DTSTART:20240310T080000
END:DAYLIGHT
BEGIN:STANDARD
TZOFFSETFROM:-0500
TZOFFSETTO:-0600
TZNAME:CST
DTSTART:20241103T070000
END:STANDARD
BEGIN:DAYLIGHT
TZOFFSETFROM:-0600
TZOFFSETTO:-0500
TZNAME:CDT
DTSTART:20250309T080000
END:DAYLIGHT
BEGIN:STANDARD
TZOFFSETFROM:-0500
TZOFFSETTO:-0600
TZNAME:CST
DTSTART:20251102T070000
END:STANDARD
BEGIN:DAYLIGHT
TZOFFSETFROM:-0600
TZOFFSETTO:-0500
TZNAME:CDT
DTSTART:20260308T080000
END:DAYLIGHT
BEGIN:STANDARD
TZOFFSETFROM:-0500
TZOFFSETTO:-0600
TZNAME:CST
DTSTART:20261101T070000
END:STANDARD
END:VTIMEZONE
BEGIN:VEVENT
DTSTART;TZID=America/Chicago:20250919T090000
DTEND;TZID=America/Chicago:20250919T110000
DTSTAMP:20260424T170952
CREATED:20250826T180624Z
LAST-MODIFIED:20260209T150412Z
UID:4607-1758272400-1758279600@livwellchs.org
SUMMARY:Banana Festival
DESCRIPTION:Banana Festival\nFirst Baptist Church Fulton – Gym \n115 2nd St\, Fulton\, KY 42041 \nFriday\, September 19\, 2025 \n9:00 AM – 11:00 AM \nFree safe sex supplies!
URL:https://livwellchs.org/event/banana-festival/
LOCATION:First Baptist Church Fulton\, 115 2nd St\, Fulton\, 42041\, United States
CATEGORIES:Resource Fair
END:VEVENT
BEGIN:VEVENT
DTSTART;TZID=America/Chicago:20250920T100000
DTEND;TZID=America/Chicago:20250920T140000
DTSTAMP:20260424T170952
CREATED:20250910T184709Z
LAST-MODIFIED:20260105T162918Z
UID:4626-1758362400-1758376800@livwellchs.org
SUMMARY:Community Health and Resource Fair
DESCRIPTION:Connect & Thrive Community Health & Resource Fair\nGoodwill Opportunity Center \n1601 Broadway St\, Paducah\, KY 42001 \nSaturday\, September 20\, 2025 \n10:00 AM – 2:00 PM \nJoin us for resources from Community Partners! \nConnect with valuable resources to better your health and well-being! \nLinkage to care \nAdult education \nHarm reduction \nBasic needs help \nUtility assistance \nHousing assistance \nFree safe sex supplies \nPrescription assistance \nTransportation services \nFood and clothing services \nCommunity health services \nTreatment and recovery support \nFree confidential HIV and Hepatitis C screenings\n*Free $25 gift card with HIV test while supplies last* \nThis event was made possible by a grant from Community Foundation of West Kentucky.
URL:https://livwellchs.org/event/community-health-and-resource-fair/
LOCATION:Goodwill Opportunity Center\, 1601 Broadway St\, Paducah\, 42001\, United States
CATEGORIES:Resource Fair
END:VEVENT
BEGIN:VEVENT
DTSTART;TZID=America/Chicago:20250924T110000
DTEND;TZID=America/Chicago:20250924T170000
DTSTAMP:20260424T170952
CREATED:20250922T170153Z
LAST-MODIFIED:20260209T150825Z
UID:4642-1758711600-1758733200@livwellchs.org
SUMMARY:Women's Health and Fitness Day
DESCRIPTION:Testing Event – National Women’s Health and Fitness Day\nHopkins County-Madisonville Public Library \n425 E Center St\, Madisonville\, KY 42431 \nWednesday\, September 24\, 2025 \n11:00 AM – 5:00 PM \nFree confidential HIV test and safe sex supplies! \n*Free gift card with HIV test while supplies last*
URL:https://livwellchs.org/event/testing-event-womens-health-and-fitness-day/
LOCATION:Hopkins County-Madisonville Public Library\, 425 E Center St\, Madisonville\, 42431\, United States
CATEGORIES:Resource Fair,Testing Event
END:VEVENT
BEGIN:VEVENT
DTSTART;TZID=America/Chicago:20250927T160000
DTEND;TZID=America/Chicago:20250927T190000
DTSTAMP:20260424T170952
CREATED:20250922T171452Z
LAST-MODIFIED:20260209T150518Z
UID:4647-1758988800-1758999600@livwellchs.org
SUMMARY:Self Sustainability Community Day
DESCRIPTION:Marshall County Self Sustainability Community Day\nH.H. Lovett Park\n1640 Park Ave\, Benton\, KY 42025 \nSaturday\, September 27\, 2025 \n4:00 PM – 7:00 PM \nFree safe sex supplies!
URL:https://livwellchs.org/event/self-sustainability-community-day/
LOCATION:HH Lovett Park\, 1640 Park Ave\, Benton\, KY\, 42025\, United States
CATEGORIES:Resource Fair
END:VEVENT
END:VCALENDAR